BEGIN:VCALENDAR
VERSION:2.0
PRODID:-//Regional Center of Orange County - ECPv6.15.20//NONSGML v1.0//EN
CALSCALE:GREGORIAN
METHOD:PUBLISH
X-ORIGINAL-URL:https://www.rcocdd.com
X-WR-CALDESC:Events for Regional Center of Orange County
REFRESH-INTERVAL;VALUE=DURATION:PT1H
X-Robots-Tag:noindex
X-PUBLISHED-TTL:PT1H
BEGIN:VTIMEZONE
TZID:America/Los_Angeles
BEGIN:DAYLIGHT
TZOFFSETFROM:-0800
TZOFFSETTO:-0700
TZNAME:PDT
DTSTART:20240310T100000
END:DAYLIGHT
BEGIN:STANDARD
TZOFFSETFROM:-0700
TZOFFSETTO:-0800
TZNAME:PST
DTSTART:20241103T090000
END:STANDARD
BEGIN:DAYLIGHT
TZOFFSETFROM:-0800
TZOFFSETTO:-0700
TZNAME:PDT
DTSTART:20250309T100000
END:DAYLIGHT
BEGIN:STANDARD
TZOFFSETFROM:-0700
TZOFFSETTO:-0800
TZNAME:PST
DTSTART:20251102T090000
END:STANDARD
BEGIN:DAYLIGHT
TZOFFSETFROM:-0800
TZOFFSETTO:-0700
TZNAME:PDT
DTSTART:20260308T100000
END:DAYLIGHT
BEGIN:STANDARD
TZOFFSETFROM:-0700
TZOFFSETTO:-0800
TZNAME:PST
DTSTART:20261101T090000
END:STANDARD
END:VTIMEZONE
BEGIN:VEVENT
DTSTART;TZID=America/Los_Angeles:20250903T100000
DTEND;TZID=America/Los_Angeles:20250903T113000
DTSTAMP:20260424T160637
CREATED:20250807T230807Z
LAST-MODIFIED:20250807T230807Z
UID:24270-1756893600-1756899000@www.rcocdd.com
SUMMARY:IEP 3-Part Virtual Training
DESCRIPTION:IEP 3-Part Virtual Training Series/Serie de Capacitación Virtual de 3 Partes / 3 BUỔI HUẤN LUYỆN TRỰC TUYẾN / 3단계로 구성된 가상 교육 시리즈 \nDate:  September 3rd\, 10th and 17th; 10 – 11:30 am \nLocation: Zoom \n  \nRegister HERE. \nView flyer HERE. \n  \nRegístrese AQUÍ. \nVer el volante AQUÍ. \n  \nGHI DANH TẠI đây \nXem thông tin bằng tiếng Việt tại đây. \n  \n여기에서 등록하세요 \n전단지 보기
URL:https://www.rcocdd.com/event/iep-3-part-virtual-training/
LOCATION:Zoom
END:VEVENT
BEGIN:VEVENT
DTSTART;TZID=America/Los_Angeles:20250904T170000
DTEND;TZID=America/Los_Angeles:20250904T183000
DTSTAMP:20260424T160637
CREATED:20250320T231446Z
LAST-MODIFIED:20250320T231446Z
UID:22910-1757005200-1757010600@www.rcocdd.com
SUMMARY:Yearly Transition Adulthood Workshops
DESCRIPTION:May 1st\, 5 – 6:30 pm: Subject: Planificación centrada en la persona. \nJune 5th\, 5 – 6:30 pm: Subject: Mejorar las relaciones con los coordinadores de servicios y comprender los apoyos de recreación social. \nAugust 7th\, 5 – 6:30 pm: Subject:  Repasando los servicios de la Ley Lanterman. \nSeptember 4th\, 5 – 6:30 pm: Subject: Autodeterminación. \nOctober 2nd\, 5 – 6:30 pm: Subject: Resumen del nuevo IPP. \nDecember 4th\, 5 – 6:30 pm: Subject: Apoyo familiar coordinado para personas en la edad adulta. \n  \nHere is the flyer and registration link: \nVer el Volante  \nRegístrese AQUÍ
URL:https://www.rcocdd.com/event/yearly-transition-adulthood-workshops-4/
LOCATION:Zoom
END:VEVENT
BEGIN:VEVENT
DTSTART;TZID=America/Los_Angeles:20250904T173000
DTEND;TZID=America/Los_Angeles:20250904T200000
DTSTAMP:20260424T160637
CREATED:20250708T213833Z
LAST-MODIFIED:20250708T213833Z
UID:24005-1757007000-1757016000@www.rcocdd.com
SUMMARY:Behavior Management Workshop
DESCRIPTION:Dates: 8/7\, 8/14\, 8/21\, 8/28\, 9/4 \nTime: 5:30pm-8:00pm \nView Flyer
URL:https://www.rcocdd.com/event/behavior-management-workshop-40/
LOCATION:Zoom
END:VEVENT
BEGIN:VEVENT
DTSTART;TZID=America/Los_Angeles:20250904T180000
DTEND;TZID=America/Los_Angeles:20250904T193000
DTSTAMP:20260424T160637
CREATED:20250708T192147Z
LAST-MODIFIED:20250929T185630Z
UID:23849-1757008800-1757014200@www.rcocdd.com
SUMMARY:Board of Directors Meeting and National Core Indicators (NCI) Presentation
DESCRIPTION:Register\n  \nClick the link below to view board meeting details and documentation\nBoard of Directors Meeting Information
URL:https://www.rcocdd.com/event/board-of-director-meetings/
LOCATION:Regional Center of Orange County (Central Office)\, 1525 N. Tustin Avenue\, Santa Ana\, CA\, United States
CATEGORIES:Board of Directors
END:VEVENT
BEGIN:VEVENT
DTSTART;TZID=America/Los_Angeles:20250905T080000
DTEND;TZID=America/Los_Angeles:20250905T170000
DTSTAMP:20260424T160637
CREATED:20250825T225630Z
LAST-MODIFIED:20250825T225630Z
UID:24426-1757059200-1757091600@www.rcocdd.com
SUMMARY:Person-Centered Planning
DESCRIPTION:Person-Centered Planning \nZoom Training \n9:30 – 11:30 AM \n9/5/25 \nView Flyer
URL:https://www.rcocdd.com/event/person-centered-planning/
LOCATION:Zoom
END:VEVENT
BEGIN:VEVENT
DTSTART;TZID=America/Los_Angeles:20250908T170000
DTEND;TZID=America/Los_Angeles:20250908T180000
DTSTAMP:20260424T160637
CREATED:20250708T194934Z
LAST-MODIFIED:20250708T194934Z
UID:23936-1757350800-1757354400@www.rcocdd.com
SUMMARY:Board Recruitment & Training (BRTC) Committee Meeting
DESCRIPTION:Board Recruitment & Training (BRTC) Committee Meeting
URL:https://www.rcocdd.com/event/board-recruitment-training-brtc-committee-meeting-2/
LOCATION:Zoom
CATEGORIES:Board of Directors
END:VEVENT
BEGIN:VEVENT
DTSTART;TZID=America/Los_Angeles:20250909T140000
DTEND;TZID=America/Los_Angeles:20250909T150000
DTSTAMP:20260424T160637
CREATED:20250708T195322Z
LAST-MODIFIED:20250708T201312Z
UID:23949-1757426400-1757430000@www.rcocdd.com
SUMMARY:Vendor Advisory Committee (VAC) Meeting
DESCRIPTION:Vendor Advisory Committee (VAC) Meeting \nRegister
URL:https://www.rcocdd.com/event/vendor-advisory-committee-vac-meeting-2/
LOCATION:Zoom
CATEGORIES:Vendor Advisory Committee
END:VEVENT
BEGIN:VEVENT
DTSTART;TZID=America/Los_Angeles:20250910T100000
DTEND;TZID=America/Los_Angeles:20250910T113000
DTSTAMP:20260424T160637
CREATED:20250807T230852Z
LAST-MODIFIED:20250807T230852Z
UID:24272-1757498400-1757503800@www.rcocdd.com
SUMMARY:IEP 3-Part Virtual Training
DESCRIPTION:IEP 3-Part Virtual Training Series/Serie de Capacitación Virtual de 3 Partes / 3 BUỔI HUẤN LUYỆN TRỰC TUYẾN / 3단계로 구성된 가상 교육 시리즈 \nDate:  September 3rd\, 10th and 17th; 10 – 11:30 am \nLocation: Zoom \n  \nRegister HERE. \nView flyer HERE. \n  \nRegístrese AQUÍ. \nVer el volante AQUÍ. \n  \nGHI DANH TẠI đây \nXem thông tin bằng tiếng Việt tại đây. \n  \n여기에서 등록하세요 \n전단지 보기
URL:https://www.rcocdd.com/event/iep-3-part-virtual-training-2/
LOCATION:Zoom
END:VEVENT
BEGIN:VEVENT
DTSTART;TZID=America/Los_Angeles:20250915T093000
DTEND;TZID=America/Los_Angeles:20250915T113000
DTSTAMP:20260424T160637
CREATED:20250825T225424Z
LAST-MODIFIED:20250825T225642Z
UID:24423-1757928600-1757935800@www.rcocdd.com
SUMMARY:Person-Centered Planning
DESCRIPTION:Person-Centered Planning \nFor Families of Color \nZoom Training \n9:30 AM -11:30 AM \n11/15/25 \nView Flyer
URL:https://www.rcocdd.com/event/person-centered-planning-2/
LOCATION:Zoom
END:VEVENT
BEGIN:VEVENT
DTSTART;TZID=America/Los_Angeles:20250915T170000
DTEND;TZID=America/Los_Angeles:20250915T180000
DTSTAMP:20260424T160637
CREATED:20250708T194022Z
LAST-MODIFIED:20250708T194022Z
UID:23904-1757955600-1757959200@www.rcocdd.com
SUMMARY:Executive Committee Meeting
DESCRIPTION:Executive Committee Meeting
URL:https://www.rcocdd.com/event/executive-committee-meeting-2/
LOCATION:Zoom
CATEGORIES:Board of Directors
END:VEVENT
BEGIN:VEVENT
DTSTART;TZID=America/Los_Angeles:20250917T100000
DTEND;TZID=America/Los_Angeles:20250917T113000
DTSTAMP:20260424T160637
CREATED:20250807T231017Z
LAST-MODIFIED:20250807T231017Z
UID:24274-1758103200-1758108600@www.rcocdd.com
SUMMARY:IEP 3-Part Virtual Training
DESCRIPTION:IEP 3-Part Virtual Training Series/Serie de Capacitación Virtual de 3 Partes / 3 BUỔI HUẤN LUYỆN TRỰC TUYẾN / 3단계로 구성된 가상 교육 시리즈 \nDate:  September 3rd\, 10th and 17th; 10 – 11:30 am \nLocation: Zoom \n  \nRegister HERE. \nView flyer HERE. \n  \nRegístrese AQUÍ. \nVer el volante AQUÍ. \n  \nGHI DANH TẠI đây \nXem thông tin bằng tiếng Việt tại đây. \n  \n여기에서 등록하세요 \n전단지 보기
URL:https://www.rcocdd.com/event/iep-3-part-virtual-training-3/
LOCATION:Zoom
END:VEVENT
BEGIN:VEVENT
DTSTART;TZID=America/Los_Angeles:20250917T150000
DTEND;TZID=America/Los_Angeles:20250917T160000
DTSTAMP:20260424T160637
CREATED:20250708T193648Z
LAST-MODIFIED:20250708T193648Z
UID:23892-1758121200-1758124800@www.rcocdd.com
SUMMARY:Peer Advisory Committee
DESCRIPTION:Peer Advisory Committee
URL:https://www.rcocdd.com/event/peer-advisory-committee-10/
LOCATION:Zoom
CATEGORIES:Board of Directors
END:VEVENT
BEGIN:VEVENT
DTSTART;TZID=America/Los_Angeles:20250917T180000
DTEND;TZID=America/Los_Angeles:20250917T193000
DTSTAMP:20260424T160637
CREATED:20250828T215838Z
LAST-MODIFIED:20250828T215838Z
UID:24471-1758132000-1758137400@www.rcocdd.com
SUMMARY:Transition Round Tables
DESCRIPTION:Where:  \nRegional Center Orange County\,\n1525 N. Tustin Ave.\, Santa Ana\, CA 92705 \nHow:  \nParticipants will select up to three topics in which to participate in assigned rooms.\nWho may benefit from in-person attendance: Persons and families served by RCOC who are interested in learning more about preparing for the future. The focus age group is 14 years old and above\, but families of preschool and elementary school-age children who are ready to start planning even earlier are always welcome. \nRegistration is required: transition@rcocdd.com \nFLYER
URL:https://www.rcocdd.com/event/transitionroundtables/
END:VEVENT
BEGIN:VEVENT
DTSTART;TZID=America/Los_Angeles:20250922T183000
DTEND;TZID=America/Los_Angeles:20250922T203000
DTSTAMP:20260424T160637
CREATED:20250825T230916Z
LAST-MODIFIED:20250825T230955Z
UID:24429-1758565800-1758573000@www.rcocdd.com
SUMMARY:Self-Determination Program Local Advisory Committee Meeting
DESCRIPTION:You are invited to join us via Zoom \nAgenda for upcoming Virtual Meeting via Zoom: September 22\, 2025 at 6:30pm \nRegister Here
URL:https://www.rcocdd.com/event/self-determination-program-local-advisory-committee-meeting-14/
END:VEVENT
BEGIN:VEVENT
DTSTART;TZID=America/Los_Angeles:20250924T183000
DTEND;TZID=America/Los_Angeles:20250924T203000
DTSTAMP:20260424T160637
CREATED:20241216T203758Z
LAST-MODIFIED:20241216T203758Z
UID:22026-1758738600-1758745800@www.rcocdd.com
SUMMARY:Moving on at 3
DESCRIPTION:This presentation will educate and support parents of young children during the transition process at age 3 \nView Flyer in English \nView Flyer in Spanish \nView Flyer in Vietnamese \nView Flyer in Korean \nRegister
URL:https://www.rcocdd.com/event/moving-on-at-3-8/
LOCATION:Zoom
END:VEVENT
BEGIN:VEVENT
DTSTART;TZID=America/Los_Angeles:20250926T100000
DTEND;TZID=America/Los_Angeles:20250926T140000
DTSTAMP:20260424T160637
CREATED:20250910T182019Z
LAST-MODIFIED:20250912T233832Z
UID:24610-1758880800-1758895200@www.rcocdd.com
SUMMARY:Conferencia Annual: Conexiones Educativas
DESCRIPTION:Date: 9/26/25 from 10am to 2pm \nLocation: Anaheim Community Center \nView Flyer \nHORARIO – CONFERENCIA \n1er – PRESENTACIONES – CONFERENCIA \n2a – PRESENTACIONES – CONFERENCIA2
URL:https://www.rcocdd.com/event/conferencia-annual/
END:VEVENT
END:VCALENDAR