BEGIN:VCALENDAR
VERSION:2.0
PRODID:-//Regional Center of Orange County - ECPv6.15.20//NONSGML v1.0//EN
CALSCALE:GREGORIAN
METHOD:PUBLISH
X-WR-CALNAME:Regional Center of Orange County
X-ORIGINAL-URL:https://www.rcocdd.com
X-WR-CALDESC:Events for Regional Center of Orange County
REFRESH-INTERVAL;VALUE=DURATION:PT1H
X-Robots-Tag:noindex
X-PUBLISHED-TTL:PT1H
BEGIN:VTIMEZONE
TZID:America/Los_Angeles
BEGIN:DAYLIGHT
TZOFFSETFROM:-0800
TZOFFSETTO:-0700
TZNAME:PDT
DTSTART:20240310T100000
END:DAYLIGHT
BEGIN:STANDARD
TZOFFSETFROM:-0700
TZOFFSETTO:-0800
TZNAME:PST
DTSTART:20241103T090000
END:STANDARD
BEGIN:DAYLIGHT
TZOFFSETFROM:-0800
TZOFFSETTO:-0700
TZNAME:PDT
DTSTART:20250309T100000
END:DAYLIGHT
BEGIN:STANDARD
TZOFFSETFROM:-0700
TZOFFSETTO:-0800
TZNAME:PST
DTSTART:20251102T090000
END:STANDARD
BEGIN:DAYLIGHT
TZOFFSETFROM:-0800
TZOFFSETTO:-0700
TZNAME:PDT
DTSTART:20260308T100000
END:DAYLIGHT
BEGIN:STANDARD
TZOFFSETFROM:-0700
TZOFFSETTO:-0800
TZNAME:PST
DTSTART:20261101T090000
END:STANDARD
END:VTIMEZONE
BEGIN:VEVENT
DTSTART;TZID=America/Los_Angeles:20251002T170000
DTEND;TZID=America/Los_Angeles:20251002T183000
DTSTAMP:20260424T143719
CREATED:20250320T231530Z
LAST-MODIFIED:20250320T231530Z
UID:22911-1759424400-1759429800@www.rcocdd.com
SUMMARY:Yearly Transition Adulthood Workshops
DESCRIPTION:May 1st\, 5 – 6:30 pm: Subject: Planificación centrada en la persona. \nJune 5th\, 5 – 6:30 pm: Subject: Mejorar las relaciones con los coordinadores de servicios y comprender los apoyos de recreación social. \nAugust 7th\, 5 – 6:30 pm: Subject:  Repasando los servicios de la Ley Lanterman. \nSeptember 4th\, 5 – 6:30 pm: Subject: Autodeterminación. \nOctober 2nd\, 5 – 6:30 pm: Subject: Resumen del nuevo IPP. \nDecember 4th\, 5 – 6:30 pm: Subject: Apoyo familiar coordinado para personas en la edad adulta. \n  \nHere is the flyer and registration link: \nVer el Volante  \nRegístrese AQUÍ
URL:https://www.rcocdd.com/event/yearly-transition-adulthood-workshops-5/
LOCATION:Zoom
END:VEVENT
BEGIN:VEVENT
DTSTART;TZID=America/Los_Angeles:20251002T173000
DTEND;TZID=America/Los_Angeles:20251002T190000
DTSTAMP:20260424T143719
CREATED:20250708T192731Z
LAST-MODIFIED:20250708T192731Z
UID:23862-1759426200-1759431600@www.rcocdd.com
SUMMARY:Board of Director Training
DESCRIPTION:Board of Director Training
URL:https://www.rcocdd.com/event/board-of-director-training/
LOCATION:Zoom
CATEGORIES:Board of Directors
END:VEVENT
BEGIN:VEVENT
DTSTART;TZID=America/Los_Angeles:20251002T173000
DTEND;TZID=America/Los_Angeles:20251002T200000
DTSTAMP:20260424T143719
CREATED:20250916T213834Z
LAST-MODIFIED:20250916T213834Z
UID:24686-1759426200-1759435200@www.rcocdd.com
SUMMARY:Behavior Management Workshop
DESCRIPTION:Dates: October 2\, 9\, 16\, 23\, and 30 on Thursdays \nTime: 5:30pm-8:00pm \nView Flyer in English \nView Flyer in Spanish \nRegister Here
URL:https://www.rcocdd.com/event/behavior-management-workshop-41/
LOCATION:Zoom
END:VEVENT
BEGIN:VEVENT
DTSTART;TZID=America/Los_Angeles:20251008T180000
DTEND;TZID=America/Los_Angeles:20251008T193000
DTSTAMP:20260424T143719
CREATED:20250828T214742Z
LAST-MODIFIED:20260206T074200Z
UID:24466-1759946400-1759951800@www.rcocdd.com
SUMMARY:2026 Project Search Family Information Night
DESCRIPTION:Where:  \nRCOC Central Office 1525 N. Tustin Ave\,\nSanta Ana\, CA 92705 (parking available at lot next to EOS) \nWho may benefit from attendance:  \nPersons and families served by RCOC interested in learning more about the Project Search program and requirements. \nRegistration:  \nPlease RSVP to Anita Kwon via email at akwon@rcocdd.com or call 714-796-5102 \n  \nFLYER
URL:https://www.rcocdd.com/event/infonight/
LOCATION:Regional Center of Orange County (Central Office)\, 1525 N. Tustin Avenue\, Santa Ana\, CA\, United States
END:VEVENT
BEGIN:VEVENT
DTSTART;TZID=America/Los_Angeles:20251009T120000
DTEND;TZID=America/Los_Angeles:20251009T130000
DTSTAMP:20260424T143719
CREATED:20250909T231239Z
LAST-MODIFIED:20250909T231239Z
UID:24582-1760011200-1760014800@www.rcocdd.com
SUMMARY:OC Ask the Experts
DESCRIPTION:Project SEARCH- Employment Preparation & Internships in Health Care \nView Flyer \nRegister
URL:https://www.rcocdd.com/event/oc-ask-the-experts/
LOCATION:Zoom
END:VEVENT
BEGIN:VEVENT
DTSTART;TZID=America/Los_Angeles:20251009T173000
DTEND;TZID=America/Los_Angeles:20251009T200000
DTSTAMP:20260424T143719
CREATED:20250916T213956Z
LAST-MODIFIED:20250916T213956Z
UID:24690-1760031000-1760040000@www.rcocdd.com
SUMMARY:Behavior Management Workshop
DESCRIPTION:Dates: October 2\, 9\, 16\, 23\, and 30 on Thursdays \nTime: 5:30pm-8:00pm \nView Flyer in English \nView Flyer in Spanish \nRegister Here
URL:https://www.rcocdd.com/event/behavior-management-workshop-42/
LOCATION:Zoom
END:VEVENT
BEGIN:VEVENT
DTSTART;TZID=America/Los_Angeles:20251014T140000
DTEND;TZID=America/Los_Angeles:20251014T150000
DTSTAMP:20260424T143719
CREATED:20250708T195347Z
LAST-MODIFIED:20250708T201345Z
UID:23951-1760450400-1760454000@www.rcocdd.com
SUMMARY:Vendor Advisory Committee (VAC) Meeting
DESCRIPTION:Vendor Advisory Committee (VAC) Meeting \nRegister
URL:https://www.rcocdd.com/event/vendor-advisory-committee-vac-meeting-3/
LOCATION:Zoom
CATEGORIES:Vendor Advisory Committee
END:VEVENT
BEGIN:VEVENT
DTSTART;TZID=America/Los_Angeles:20251014T170000
DTEND;TZID=America/Los_Angeles:20251014T180000
DTSTAMP:20260424T143719
CREATED:20250708T194504Z
LAST-MODIFIED:20250708T194504Z
UID:23922-1760461200-1760464800@www.rcocdd.com
SUMMARY:Legislative & Community Awareness (LCA) Committee Meeting
DESCRIPTION:Legislative & Community Awareness (LCA) Committee Meeting
URL:https://www.rcocdd.com/event/legislative-community-awareness-lca-committee-meeting-2/
LOCATION:Zoom
CATEGORIES:Board of Directors
END:VEVENT
BEGIN:VEVENT
DTSTART;TZID=America/Los_Angeles:20251014T180000
DTEND;TZID=America/Los_Angeles:20251014T200000
DTSTAMP:20260424T143719
CREATED:20250618T201645Z
LAST-MODIFIED:20250618T201645Z
UID:23669-1760464800-1760472000@www.rcocdd.com
SUMMARY:Vendor Person Centered Thinking Workshop
DESCRIPTION:When: October 14th\, 6:00 PM – 8:00 PM \nWhere: RCOC Santa Ana Office \nView Flyer
URL:https://www.rcocdd.com/event/vendor-person-centered-thinking-workshop/
LOCATION:Regional Center of Orange County (Central Office)\, 1525 N. Tustin Avenue\, Santa Ana\, CA\, United States
END:VEVENT
BEGIN:VEVENT
DTSTART;TZID=America/Los_Angeles:20251014T180000
DTEND;TZID=America/Los_Angeles:20251014T200000
DTSTAMP:20260424T143719
CREATED:20250825T225150Z
LAST-MODIFIED:20250825T225645Z
UID:24421-1760464800-1760472000@www.rcocdd.com
SUMMARY:Person-Centered Thinking Workshop
DESCRIPTION:Person-Centered Thinking Service Provider Workshop \nRCOC Santa Ana Office \n6:00 PM 8:00 PM \n10/14/25 \nView Flyer
URL:https://www.rcocdd.com/event/person-centered-thinking-workshop-2/
LOCATION:Regional Center of Orange County (Central Office)\, 1525 N. Tustin Avenue\, Santa Ana\, CA\, United States
END:VEVENT
BEGIN:VEVENT
DTSTART;TZID=America/Los_Angeles:20251015T150000
DTEND;TZID=America/Los_Angeles:20251015T160000
DTSTAMP:20260424T143719
CREATED:20250708T193708Z
LAST-MODIFIED:20250708T193708Z
UID:23894-1760540400-1760544000@www.rcocdd.com
SUMMARY:Peer Advisory Committee
DESCRIPTION:Peer Advisory Committee
URL:https://www.rcocdd.com/event/peer-advisory-committee-16/
LOCATION:Zoom
CATEGORIES:Board of Directors
END:VEVENT
BEGIN:VEVENT
DTSTART;TZID=America/Los_Angeles:20251016T173000
DTEND;TZID=America/Los_Angeles:20251016T200000
DTSTAMP:20260424T143719
CREATED:20250916T214044Z
LAST-MODIFIED:20250916T214044Z
UID:24692-1760635800-1760644800@www.rcocdd.com
SUMMARY:Behavior Management Workshop
DESCRIPTION:Dates: October 2\, 9\, 16\, 23\, and 30 on Thursdays \nTime: 5:30pm-8:00pm \nView Flyer in English \nView Flyer in Spanish \nRegister Here
URL:https://www.rcocdd.com/event/behavior-management-workshop-43/
LOCATION:Zoom
END:VEVENT
BEGIN:VEVENT
DTSTART;TZID=America/Los_Angeles:20251020T170000
DTEND;TZID=America/Los_Angeles:20251020T180000
DTSTAMP:20260424T143719
CREATED:20250708T194050Z
LAST-MODIFIED:20250708T194056Z
UID:23906-1760979600-1760983200@www.rcocdd.com
SUMMARY:Executive Committee Meeting
DESCRIPTION:Executive Committee Meeting
URL:https://www.rcocdd.com/event/executive-committee-meeting-3/
LOCATION:Zoom
CATEGORIES:Board of Directors
END:VEVENT
BEGIN:VEVENT
DTSTART;TZID=America/Los_Angeles:20251020T180000
DTEND;TZID=America/Los_Angeles:20251020T190000
DTSTAMP:20260424T143719
CREATED:20250708T194640Z
LAST-MODIFIED:20250708T194640Z
UID:23928-1760983200-1760986800@www.rcocdd.com
SUMMARY:Policies & Outcomes (P&O) Committee Meeting
DESCRIPTION:Policies & Outcomes (P&O) Committee Meeting
URL:https://www.rcocdd.com/event/policies-outcomes-po-committee-meeting-2/
LOCATION:Zoom
CATEGORIES:Board of Directors
END:VEVENT
BEGIN:VEVENT
DTSTART;TZID=America/Los_Angeles:20251023T173000
DTEND;TZID=America/Los_Angeles:20251023T200000
DTSTAMP:20260424T143719
CREATED:20250916T214234Z
LAST-MODIFIED:20250916T214234Z
UID:24694-1761240600-1761249600@www.rcocdd.com
SUMMARY:Behavior Management Workshop
DESCRIPTION:Dates: October 2\, 9\, 16\, 23\, and 30 on Thursdays \nTime: 5:30pm-8:00pm \nView Flyer in English \nView Flyer in Spanish \nRegister Here
URL:https://www.rcocdd.com/event/behavior-management-workshop-44/
LOCATION:Zoom
END:VEVENT
BEGIN:VEVENT
DTSTART;TZID=America/Los_Angeles:20251029T183000
DTEND;TZID=America/Los_Angeles:20251029T203000
DTSTAMP:20260424T143719
CREATED:20250923T235441Z
LAST-MODIFIED:20250923T235441Z
UID:24762-1761762600-1761769800@www.rcocdd.com
SUMMARY:Behaviors in Early Childhood: How to Support Your Young Child
DESCRIPTION:Wednesday\, October 29th from 6:30-8:30 p.m \nClick HERE to register. \nHaga clic AQUĺ para registrarse. \nĐể ghi danh\, Bấm vào đây \n등록하려면 여기 \n  \nView Flyer in English\nView Flyer in Spanish\nView Flyer in Vietnamese\nView Flyer in Korean
URL:https://www.rcocdd.com/event/behaviors-in-early-childhood-how-to-support-your-young-child/
LOCATION:Zoom
END:VEVENT
BEGIN:VEVENT
DTSTART;TZID=America/Los_Angeles:20251030T173000
DTEND;TZID=America/Los_Angeles:20251030T200000
DTSTAMP:20260424T143719
CREATED:20250916T214326Z
LAST-MODIFIED:20250916T214326Z
UID:24697-1761845400-1761854400@www.rcocdd.com
SUMMARY:Behavior Management Workshop
DESCRIPTION:Dates: October 2\, 9\, 16\, 23\, and 30 on Thursdays \nTime: 5:30pm-8:00pm \nView Flyer in English \nView Flyer in Spanish \nRegister Here
URL:https://www.rcocdd.com/event/behavior-management-workshop-45/
LOCATION:Zoom
END:VEVENT
END:VCALENDAR